BEGIN:VCALENDAR
VERSION:2.0
PRODID:-//Eventin//Event Calendar//EN
CALSCALE:GREGORIAN
METHOD:PUBLISH
BEGIN:VEVENT
UID:b8ad0151cea879f46eaece8c6bb59d64@shootingstar.ca
SUMMARY:Trail Silver City Days 2026
DESCRIPTION:Carnival Hours\n\n\n\nDATE\nHOURS*\nSPECIALS\n\n\nMay 6th\n3PM 
 –  10PM\nWristbands $43*\n\n\nMay 7th\n3PM –  10PM\nWristbands $43*\n
 \n\nMay 8th\n3PM – 10PM\n  Wristbands $43*\n\n\nMay 9th\n11AM – 10PM\n
   Wristbands $43*\n\n\nMay 10th\n11AM – Close\n  Wristbands $43*\n\n\n\
 n*Closing hours vary\, based on weather and guest attendance.  Please ask 
 at the Ticket Booth for closing hours before you purchase your tickets or w
 ristbands.\n\n\n \nSpecials and Promotions\nWe are offering Wristbands ev
 ery day at Trail City Silver Days.\n\nSAVE $10 when you order a Presale ti
 cket online by May 5th (per day\, per person) you can ride all the rides y
 ou can @ $33! Regular tickets are available for $43 onsite
LOCATION:Downtown Trail\,BC
DTSTAMP:20260423T081659Z
DTSTART:20260506T220000Z
DTEND:20260511T050000Z
END:VEVENT
END:VCALENDAR
