BEGIN:VCALENDAR
VERSION:2.0
PRODID:-//Eventin//Event Calendar//EN
CALSCALE:GREGORIAN
METHOD:PUBLISH
BEGIN:VEVENT
UID:74a909914fdc997f73110e81749c6895@shootingstar.ca
SUMMARY:Maple Ridge Home Show 2026
DESCRIPTION:Carnival Hours DATEHOURS*SPECIALSMay 1st3PM –  9PMWristband
 s $40*May 2nd3PM –  10PMWristbands $40*May 3rd11AM – 10PM  Wristbands
  $40**Closing hours vary\, based on weather and guest attendance.  Please 
 ask at the Ticket Booth for closing hours before you purchase your tickets 
 or wristbands. Specials and PromotionsWe are offering Wristbands every da
 y at Maple Ridge Home Show.SAVE $10 when you order a Presale ticket online
  by April 30th (per day\, per person) you can ride all the rides you can!
  @ $30. 
LOCATION:23588 Jim Robson Way Maple Ridge
DTSTAMP:20260423T081316Z
DTSTART:20260501T220000Z
DTEND:20260504T050000Z
END:VEVENT
END:VCALENDAR
