BEGIN:VCALENDAR
VERSION:2.0
PRODID:-//Eventin//Event Calendar//EN
CALSCALE:GREGORIAN
METHOD:PUBLISH
BEGIN:VEVENT
UID:3ff07432a57863b6b4671940ca72c449@shootingstar.ca
SUMMARY:Merritt Spring Carnival 2026
DESCRIPTION:Carnival Hours\n\n\n\nDATE\nHOURS*\nSPECIALS\n\n\nApril 23rd\n3
 PM –  9PM\nWristbands $40*\n\n\nApril 24th\n3PM –  10PM\nWristbands $
 40*\n\n\nApril 25th\n12PM – 10PM\n  Wristbands $40*\n\n\nApril 26th\n12P
 M – Close\n  Wristbands $40*\n\n\n\n*Closing hours vary\, based on weath
 er and guest attendance.  Please ask at the Ticket Booth for closing hours
  before you purchase your tickets or wristbands.\n\n\n \nSpecials and Prom
 otions\nWe are offering Wristbands every day at Merritt Spring Carnival.\n
 \nSAVE $10 when you order a Presale ticket online by April 22nd (per day\,
  per person) you can ride all the rides you can! @ $30. Regular tickets a
 re available for $40 onsite\n 
LOCATION:2975 Voght St\, Merritt\, BC\, Canada
DTSTAMP:20260423T081659Z
DTSTART:20260423T220000Z
DTEND:20260427T050000Z
END:VEVENT
END:VCALENDAR
